BEGIN:VCALENDAR
VERSION:2.0
PRODID:-//Eventin//Event Calendar//EN
CALSCALE:GREGORIAN
METHOD:PUBLISH
BEGIN:VEVENT
UID:d83ff01b6be4e38f11a0b5f638fb05b3@art-system.org
SUMMARY:GameDay
DESCRIPTION:Kolejna edycja naszego wydarzenia już na Ciebie czeka. Dzień 
 pełen gier\, spotkań i dobrej atmosfery. Będą planszówki\, Xbox\, VR i
  miejsce do rozmowy – wszystko\, czego potrzeba\, by dobrze rozpocząć w
 eekend.\nTo będzie doskonała okazja\, by poznać innych graczy\, zrelakso
 wać się po tygodniu i wspólnie zanurzyć się w świat gier.Zabierz znaj
 omych i wpadnij – widzimy się na Górskiej!
LOCATION:ul. Górska 3/3
DTSTAMP:20260420T155330Z
DTSTART:20260424T120000Z
DTEND:20260424T190000Z
END:VEVENT
END:VCALENDAR
