BEGIN:VCALENDAR
VERSION:2.0
PRODID:-//Eventin//Event Calendar//EN
CALSCALE:GREGORIAN
METHOD:PUBLISH
BEGIN:VEVENT
UID:2e9ceb44ef67588956eb77361f5303e6@art-system.org
SUMMARY:Turniej gry w Monopoly
DESCRIPTION: Game Day w Strefie… z twistem!Lubisz planszówki\, ale masz
  też w sobie żyłkę stratega? Wpadaj na Game Day\, podczas którego roze
 gramy turniej Monopoly Czeka na Was dzień pełen rozgrywek\, gier i emocj
 i. A jeśli czujesz\, że masz smykałkę do interesów… wieczorem sprawd
 zisz się w turnieju!Buduj\, kombinuj\, negocjuj i zobacz\, czy to właśni
 e Ty zdominujesz planszę  Na najlepszych czekają drobne nagrody 24 kwi
 etnia Turniej zaczyna się o 18:00 Strefa Rozwoju Pasji\, ul. Górska 3/L
 U3 Liczba miejsc ograniczona\, obowiązują zapisy: https://forms.gle/LHN
 WwXzag3hQ27De6 Wydarzenie dostępne dla osób z niepełnosprawnością ruc
 howąWpadaj pograć – na luzie albo na serio Wydarzenie odbywa się w ra
 mach projektu „Dzielnica bez GRAnic”. Projekt zrealizowany dzięki wspa
 rciu Miasta Lublin w ramach programu “Dzielnice Kultury”.Projekt „Str
 efa Rozwoju Pasji – Przestrzeń Młodych” zrealizowany dzięki wsparciu
  Miasta Lublin.
LOCATION:ul. Górska 3/3
DTSTAMP:20260420T143426Z
DTSTART:20260424T160000Z
DTEND:20260424T183000Z
END:VEVENT
END:VCALENDAR
