BEGIN:VCALENDAR
VERSION:2.0
PRODID:-//Eventin//Event Calendar//EN
CALSCALE:GREGORIAN
METHOD:PUBLISH
BEGIN:VEVENT
UID:d2c3e9265f26a72439e8f34d3015d3c3@art-system.org
SUMMARY:Konsultacje psychologiczne
DESCRIPTION:Konsultacje psychologiczne w Strefie\n\n\nW naszej przestrzeni 
 możesz skorzystać z bezpłatnych konsultacji psychologicznych. To czas i 
 miejsce na spokojną rozmowę\, jeśli coś jest dla Ciebie trudne\, przyt
 łaczające albo po prostu potrzebujesz się na chwilę zatrzymać.\n\n\nNi
 e musisz mieć konkretnego problemu\, możesz przyjść z tym\, co aktualni
 e masz w głowie. To bezpieczna i wspierająca przestrzeń\, w której zast
 aniesz wysłuchany/a bez oceniania.\n\n\nDodatkowy dyżur: 22 kwietnia o go
 dzinie 16:00\n\n\n Strefa Rozwoju Pasji – Przestrzeń Młodych\n każda t
 rzecia środa miesiąca\n 16:00–18:00\n\n\nChcesz skorzystać z rozmowy? 
 Napisz do nas lub zadzwoń\n\n\nProjekt „Strefa Rozwoju Pasji – Przestr
 zeń Młodych” zrealizowany dzięki wsparciu Miasta Lublin.
LOCATION:ul. Górska 3/3
DTSTAMP:20260420T143325Z
DTSTART:20260422T140000Z
DTEND:20260422T160000Z
END:VEVENT
END:VCALENDAR
