BEGIN:VCALENDAR
VERSION:2.0
PRODID:-//Eventin//Event Calendar//EN
CALSCALE:GREGORIAN
METHOD:PUBLISH
BEGIN:VEVENT
UID:792d5f35a8409d5b7c5f830cd2668849@art-system.org
SUMMARY:Haftowanie dla początkujących
DESCRIPTION: Warsztaty haftu dla początkujących \nChcesz spróbować cz
 egoś nowego\, a może po prostu posiedzieć chwilę w spokojnej\, kreatywn
 ej atmosferze? Zapraszamy na warsztaty z haftu – idealne dla osób\, któ
 re dopiero zaczynają!\nNa zajęciach: poznasz podstawowe ściegi hafciars
 kie nauczysz się haftować proste wzory roślinne przeniesiesz swój pro
 jekt na torbę\nNie musisz mieć żadnego doświadczenia – wszystkiego na
 uczysz się na miejscu\, krok po kroku.A własnoręcznie wyhaftowana torba?
  Może stać się wyjątkowym prezentem dla bliskiej osoby \n Strefa Rozw
 oju Pasji\, ul. Górska 3/LU3 23 kwietnia 17:00\n 14-30 lat Udział bez
 płatny Obowiązują zapisy: https://forms.gle/g4JJXteB7wauzFyB8\nProjekt
  “Wytwórnik Dobrych Uczynków” został sfinansowany ze środków Unii 
 Europejskiej.Wydarzenie odbywa się w ramach projektu „Strefa Rozwoju Pas
 ji – Przestrzeń Młodych”. Projekt zrealizowany dzięki wsparciu Miast
 a Lublin.
LOCATION:ul. Górska 3/3
DTSTAMP:20260420T143005Z
DTSTART:20260423T150000Z
DTEND:20260423T180000Z
END:VEVENT
END:VCALENDAR
