BEGIN:VCALENDAR
VERSION:2.0
PRODID:-//Eventin//Event Calendar//EN
CALSCALE:GREGORIAN
METHOD:PUBLISH
BEGIN:VEVENT
UID:d04a4caa5eace99aa92a1de8ae36d30e@art-system.org
SUMMARY:Atā Thingyan – Birmański Nowy Rok
DESCRIPTION:Atā Thingyan – Burmese New Year Event\n\n\nZapraszamy na wyj
 ątkowe spotkanie\, podczas którego poznacie kulturę Mjanmy i tradycje zw
 iązane z Atā Thingyan – birmańskim Nowym Rokiem.\n\n\nW programie:\n k
 rótkie wprowadzenie do kultury i znaczenia święta\n symboliczne obchody 
 (m.in. water splashing\, thanakha\, alfabet birmański)\n pokaz i możliwo
 ść nauki tradycyjnego tańca\n poczęstunek i czas na rozmowę\n\n\n 20 k
 wietnia\, godz. 16:00\n ul. Górska 3/LU3\n\n\nTo okazja\, żeby doświadcz
 yć czegoś nowego\, poznać inną kulturę i spędzić czas w miłej\, otw
 artej atmosferze.\n\n\nDo zobaczenia \n\n\nWydarzenie odbywa się w ramach 
 projektu „Strefa Rozwoju Pasji – Przestrzeń Młodych”.\nProjekt zrea
 lizowany dzięki wsparciu Miasta Lublin.
LOCATION:ul. Górska 3/3
DTSTAMP:20260420T143701Z
DTSTART:20260420T140000Z
DTEND:20260420T160000Z
END:VEVENT
END:VCALENDAR
