BEGIN:VCALENDAR
VERSION:2.0
PRODID:-//Eventin//Event Calendar//EN
CALSCALE:GREGORIAN
METHOD:PUBLISH
BEGIN:VEVENT
UID:db68bfe2ee7b3691ed95716aa49e243b@art-system.org
SUMMARY:Spotkanie grupy młodzieżowej
DESCRIPTION:Zapraszamy na spotkanie\, na którym możesz wpaść\, żeby po
 znać nas bliżej i sprawdzić\, czy to coś dla Ciebie!\n\n\nW Strefie bę
 dą działać dwie grupy młodzieżowe – lokalna i międzynarodowa. To pr
 zestrzeń dla osób\, które chcą działać\, realizować swoje pomysły\,
  tworzyć wydarzenia i mieć realny wpływ na to\, co dzieje się w Strefie
 .\n\n\nNa spotkaniu:\n poznasz osoby\, które już działają\n dowiesz si
 ę\, jak wyglądają nasze działania „od środka”\n zobaczysz\, jak mo
 żesz się zaangażować\n i zdecydujesz\, czy chcesz być częścią jedne
 j z grup\n\n\nNie musisz mieć doświadczenia ani konkretnego pomysłu\, wy
 starczy chęć \n\n\n Strefa Rozwoju Pasji\, ul. Górska 3/LU3\n 25 kwietni
 a 2026\n 13:30\n\n\nWpadnij i zobacz\, jak to działa! \n\n\nProjekt „Str
 efa Rozwoju Pasji – Przestrzeń Młodych” zrealizowany dzięki wsparciu
  Miasta Lublin.
LOCATION:ul. Górska 3/3
DTSTAMP:20260420T143005Z
DTSTART:20260425T113000Z
DTEND:20260425T130000Z
END:VEVENT
END:VCALENDAR
